BEGIN:VCALENDAR
VERSION:2.0
PRODID:-//Global Locals e.V. - ECPv6.15.11//NONSGML v1.0//EN
CALSCALE:GREGORIAN
METHOD:PUBLISH
X-WR-CALNAME:Global Locals e.V.
X-ORIGINAL-URL:https://test-only.globallocals.de
X-WR-CALDESC:Events for Global Locals e.V.
REFRESH-INTERVAL;VALUE=DURATION:PT1H
X-Robots-Tag:noindex
X-PUBLISHED-TTL:PT1H
BEGIN:VTIMEZONE
TZID:Europe/Berlin
BEGIN:DAYLIGHT
TZOFFSETFROM:+0100
TZOFFSETTO:+0200
TZNAME:CEST
DTSTART:20250330T010000
END:DAYLIGHT
BEGIN:STANDARD
TZOFFSETFROM:+0200
TZOFFSETTO:+0100
TZNAME:CET
DTSTART:20251026T010000
END:STANDARD
BEGIN:DAYLIGHT
TZOFFSETFROM:+0100
TZOFFSETTO:+0200
TZNAME:CEST
DTSTART:20260329T010000
END:DAYLIGHT
BEGIN:STANDARD
TZOFFSETFROM:+0200
TZOFFSETTO:+0100
TZNAME:CET
DTSTART:20261025T010000
END:STANDARD
BEGIN:DAYLIGHT
TZOFFSETFROM:+0100
TZOFFSETTO:+0200
TZNAME:CEST
DTSTART:20270328T010000
END:DAYLIGHT
BEGIN:STANDARD
TZOFFSETFROM:+0200
TZOFFSETTO:+0100
TZNAME:CET
DTSTART:20271031T010000
END:STANDARD
END:VTIMEZONE
BEGIN:VEVENT
DTSTART;TZID=Europe/Berlin:20260322T093000
DTEND;TZID=Europe/Berlin:20260322T173000
DTSTAMP:20260423T132559
CREATED:20260312T233041Z
LAST-MODIFIED:20260312T233041Z
UID:10000846-1774171800-1774200600@test-only.globallocals.de
SUMMARY:Hiking
DESCRIPTION:​Upcoming Hike: Destination TBA\n​Join the Global Locals for our next adventure on the trail. While the specific route for this date is currently being finalized\, our outings consistently follow a reliable format designed for community and accessibility. You can expect a well-planned day in nature with a group of like-minded explorers. \n​What to Expect\n​Our hikes are curated to be approachable yet rewarding: \n\n​Distance: Typically between 10 and 15 kilometers.\n​Difficulty: Moderate; suitable for those with a foundational level of fitness.\n​Accessibility: All routes begin and end at points easily reachable via public transportation.\n\n​Preparation & Safety\n​To ensure a safe and enjoyable experience for everyone\, please note the following: \n\n​Gear: Sturdy\, trail-ready footwear is essential. We recommend bringing waterproof layers regardless of the forecast.\n​Hydration: Please carry a sufficient supply of drinking water for the duration of the trek.\n​Health: Participants should be in good health. If you have any specific health concerns or conditions we should be aware of\, please notify the organizers in confidence prior to the event.\n\n​Route Suggestions\n​We value community input. If you have a favorite trail or a route you’ve been meaning to explore\, we invite you to share your suggestions with us. \n\n​Pro Tip: We often stop at local inns or traditional public houses along the way. As many rural establishments remain cash-only\, we recommend carrying some physical currency for refreshments. \n\n  \n​We look forward to seeing you on the trail.hiking Hiking
URL:https://test-only.globallocals.de/event/hiking-5/
CATEGORIES:Global Locals Hiking
ATTACH;FMTTYPE=image/jpeg:https://test-only.globallocals.de/wp-content/uploads/2026/02/1000003745.jpg
ORGANIZER;CN="Global Locals":MAILTO:events@globallocals.de
END:VEVENT
END:VCALENDAR