BEGIN:VCALENDAR
VERSION:2.0
PRODID:-//Global Locals e.V. - ECPv6.15.11//NONSGML v1.0//EN
CALSCALE:GREGORIAN
METHOD:PUBLISH
X-ORIGINAL-URL:https://test-only.globallocals.de
X-WR-CALDESC:Events for Global Locals e.V.
REFRESH-INTERVAL;VALUE=DURATION:PT1H
X-Robots-Tag:noindex
X-PUBLISHED-TTL:PT1H
BEGIN:VTIMEZONE
TZID:Europe/Berlin
BEGIN:DAYLIGHT
TZOFFSETFROM:+0100
TZOFFSETTO:+0200
TZNAME:CEST
DTSTART:20220327T010000
END:DAYLIGHT
BEGIN:STANDARD
TZOFFSETFROM:+0200
TZOFFSETTO:+0100
TZNAME:CET
DTSTART:20221030T010000
END:STANDARD
BEGIN:DAYLIGHT
TZOFFSETFROM:+0100
TZOFFSETTO:+0200
TZNAME:CEST
DTSTART:20230326T010000
END:DAYLIGHT
BEGIN:STANDARD
TZOFFSETFROM:+0200
TZOFFSETTO:+0100
TZNAME:CET
DTSTART:20231029T010000
END:STANDARD
BEGIN:DAYLIGHT
TZOFFSETFROM:+0100
TZOFFSETTO:+0200
TZNAME:CEST
DTSTART:20240331T010000
END:DAYLIGHT
BEGIN:STANDARD
TZOFFSETFROM:+0200
TZOFFSETTO:+0100
TZNAME:CET
DTSTART:20241027T010000
END:STANDARD
END:VTIMEZONE
BEGIN:VEVENT
DTSTART;TZID=Europe/Berlin:20230903T094500
DTEND;TZID=Europe/Berlin:20230903T110000
DTSTAMP:20260423T195201
CREATED:20230809T142359Z
LAST-MODIFIED:20230825T100337Z
UID:10000023-1693734300-1693738800@test-only.globallocals.de
SUMMARY:Global Locals: Yoga in the Park
DESCRIPTION:Immerse yourself in the serene green surroundings of Rosenau Park as we come together for a revitalising yoga experience. We will gather at Cafe Kiosk at 9:45am\, and the class will begin at 10am. \nLed by our skilled instructor\, Elizaveta\, this session will encompass a blend of Hatha\, Ashtanga\, and Kriya yoga\, ensuring a harmonious balance of mind\, body\, and spirit. \nWe will gather at Cafe Kiosk at 9:45am\, and the class will begin at 10am. \nTo fully enjoy the session\, kindly bring along a water bottle\, your trusty yoga mat (or a towel/blanket)\, and attire that allows unrestricted movement. \nIn the spirit of inclusivity\, we aim to make this class accessible to all\, so while it’s not free\, we ask you to pay what you can—donations will be collected at the end of the session. \nAfterwards\, we invite you to join us for a delightful post-yoga coffee/beer and breakfast/cake at Cafe Kiosk. \nPlease feel free to reach out if you have any questions or require further information. \nNamaste 🙏 \nPlease note that you are responsible for listening to your body\, only participating in exercises that do not cause you any pain\, and avoiding any actions that may cause injury to yourself. Please check back here in case of rare cancellations due to poor weather or other reasons.
URL:https://test-only.globallocals.de/event/global-locals-yoga-in-the-park-7/
LOCATION:Rosenau Park\, Bleichstrasse 5\, Nuremberg\, Bavaria\, Germany
CATEGORIES:Global Locals Activities
ORGANIZER;CN="Global Locals":MAILTO:events@globallocals.de
END:VEVENT
BEGIN:VEVENT
DTSTART;TZID=Europe/Berlin:20230827T094500
DTEND;TZID=Europe/Berlin:20230827T110000
DTSTAMP:20260423T195201
CREATED:20230809T141914Z
LAST-MODIFIED:20230827T063655Z
UID:10000022-1693129500-1693134000@test-only.globallocals.de
SUMMARY:CANCELLED: Global Locals: Yoga in the Park
DESCRIPTION:Hi everyone! Unfortunately we have to cancel yoga today as it’s raining ☔️ \nImmerse yourself in the serene green surroundings of Rosenau Park as we come together for a revitalising yoga experience. We will gather at Cafe Kiosk at 9:45am\, and the class will begin at 10am. \nLed by our skilled instructor\, Olga\, this session will introduce us to the unique Adhoyoga style – a Ukrainian author’s yoga approach\, promising a harmonious balance of mind\, body\, and spirit.  \nWe will gather at Cafe Kiosk at 9:45am\, and the class will begin at 10am. \nTo fully enjoy the session\, kindly bring along a water bottle\, your trusty yoga mat (or a towel/blanket)\, and attire that allows unrestricted movement. \nIn the spirit of inclusivity\, we aim to make this class accessible to all\, so while it’s not free\, we ask you to pay what you can—donations will be collected at the end of the session. \nAfterwards\, we invite you to join us for a delightful post-yoga coffee/beer and breakfast/cake at Cafe Kiosk. \nFeel free to reach out if you have any questions or require further information. \nNamaste 🙏 \nPlease note that you are responsible for listening to your body\, only participating in exercises that do not cause you any pain\, and avoiding any actions that may cause injury to yourself. Please check back here in case of rare cancellations due to poor weather or other reasons.
URL:https://test-only.globallocals.de/event/global-locals-yoga-in-the-park-6/
LOCATION:Rosenau Park\, Bleichstrasse 5\, Nuremberg\, Bavaria\, Germany
CATEGORIES:Global Locals Activities
ORGANIZER;CN="Global Locals":MAILTO:events@globallocals.de
END:VEVENT
BEGIN:VEVENT
DTSTART;TZID=Europe/Berlin:20230820T094500
DTEND;TZID=Europe/Berlin:20230820T110000
DTSTAMP:20260423T195201
CREATED:20230809T141713Z
LAST-MODIFIED:20230825T101515Z
UID:10000021-1692524700-1692529200@test-only.globallocals.de
SUMMARY:Global Locals: Yoga in the Park
DESCRIPTION:Immerse yourself in the serene green surroundings of Rosenau Park as we come together for a revitalising yoga experience. We will gather at Cafe Kiosk at 9:45am\, and the class will begin at 10am. \nLed by our skilled instructor\, Elizaveta\, this session will encompass a blend of Hatha\, Ashtanga\, and Kriya yoga\, ensuring a harmonious balance of mind\, body\, and spirit. \nWe will gather at Cafe Kiosk at 9:45am\, and the class will begin at 10am. \nTo fully enjoy the session\, kindly bring along a water bottle\, your trusty yoga mat (or a towel/blanket)\, and attire that allows unrestricted movement. \nIn the spirit of inclusivity\, we aim to make this class accessible to all\, so while it’s not free\, we ask you to pay what you can—donations will be collected at the end of the session. \nAfterwards\, we invite you to join us for a delightful post-yoga coffee/beer and breakfast/cake at Cafe Kiosk. \nPlease feel free to reach out if you have any questions or require further information. \nNamaste 🙏 \nPlease note that you are responsible for listening to your body\, only participating in exercises that do not cause you any pain\, and avoiding any actions that may cause injury to yourself. Please check back here in case of rare cancellations due to poor weather or other reasons.
URL:https://test-only.globallocals.de/event/global-locals-yoga-in-the-park-5/
LOCATION:Rosenau Park\, Bleichstrasse 5\, Nuremberg\, Bavaria\, Germany
CATEGORIES:Global Locals Activities
ATTACH;FMTTYPE=image/jpeg:https://test-only.globallocals.de/wp-content/uploads/2023/07/Global-Locals-Yoga-in-the-Park.jpg
ORGANIZER;CN="Global Locals":MAILTO:events@globallocals.de
END:VEVENT
BEGIN:VEVENT
DTSTART;TZID=Europe/Berlin:20230819T073000
DTEND;TZID=Europe/Berlin:20230819T170000
DTSTAMP:20260423T195201
CREATED:20230809T140732Z
LAST-MODIFIED:20230810T104459Z
UID:10000020-1692430200-1692464400@test-only.globallocals.de
SUMMARY:Boating down the River Altmühl
DESCRIPTION:Looking for a stimulating group adventure? Then join us paddling down the River Altmühl\, through the picturesque Altmühl Valley (Altmühltal) nestled just south of Nuremberg. Become one with the tranquil surroundings through which the river passes as we float\, immersed in nature’s beauty. The journey includes about 4 hours of paddling\, offering a pleasurable blend of relaxation and excitement. Along the route\, you’ll have the option to embrace the thrill of two invigorating waterslides or opt for a more relaxed passage if preferred. \nOur fleet includes a variety of watercraft\, including single-seater kayaks\, two-seater kayaks\, and a three-seater Canadian canoe. As we progress\, you’ll have the chance to switch between different boats\, enhancing your experience. To ensure an intimate and personalised adventure\, we have limited availability to just 10 spots\, allocated on a first-come\, first-serve basis. \nTo commence our journey\, we’ll depart from Nuremberg Hauptbahnhof (main station) at approximately 8:30am\, travelling by train to our starting point on the river. The return journey is scheduled for early evening. If you wish to make your own travel arrangements please let us know at the time of booking. \nPricing (travel expenses not included): \n\nMembers: €30\nNon-Members: €40\n\nSecure your spot by reserving and completing payment by the deadline of Monday\, August 14. Cancellations made after Monday\, August 14 may be eligible for a refund\, provided a replacement participant can be found. \nFor further information and registration\, please reach out to events@globallocals.de\, and we’ll be delighted to share additional details. \nBy participating in this event\, you acknowledge and understand that outdoor activities such as canoeing\, kayaking\, and watersliding inherently involve risks and potential hazards. By choosing to take part\, you confirm that you are in good physical condition and possess the necessary skills to engage in these activities safely.
URL:https://test-only.globallocals.de/event/boating-down-the-river-altmuhl/
LOCATION:Altmühltal\, Bavaria\, Germany
CATEGORIES:Global Locals Activities
ATTACH;FMTTYPE=image/jpeg:https://test-only.globallocals.de/wp-content/uploads/2023/08/Canoe.jpg
ORGANIZER;CN="Global Locals":MAILTO:events@globallocals.de
END:VEVENT
BEGIN:VEVENT
DTSTART;TZID=Europe/Berlin:20230813T084500
DTEND;TZID=Europe/Berlin:20230813T100000
DTSTAMP:20260423T195201
CREATED:20230704T122554Z
LAST-MODIFIED:20230809T144505Z
UID:10000007-1691916300-1691920800@test-only.globallocals.de
SUMMARY:Global Locals: Yoga in the Park
DESCRIPTION:Immerse yourself in the serene green surroundings of Rosenau Park as we come together for a revitalising yoga \nImmerse yourself in the serene green surroundings of Rosenau Park as we come together for a revitalising yoga experience. We will gather at Cafe Kiosk at 9:45am\, and the class will begin at 10am. \nLed by our skilled instructor\, Elizaveta\, this session will encompass a blend of Hatha\, Ashtanga\, and Kriya yoga\, ensuring a harmonious balance of mind\, body\, and spirit. \nWe will gather at Cafe Kiosk at 9:45am\, and the class will begin at 10am. \nTo fully enjoy the session\, kindly bring along a water bottle\, your trusty yoga mat (or a towel/blanket)\, and attire that allows unrestricted movement. \nIn the spirit of inclusivity\, we aim to make this class accessible to all\, so while it’s not free\, we ask you to pay what you can—donations will be collected at the end of the session. \nAfterwards\, we invite you to join us for a delightful post-yoga coffee/beer and breakfast/cake at Cafe Kiosk. \nPlease feel free to reach out if you have any questions or require further information. \nNamaste \nPlease note that you are responsible for listening to your body\, only participating in exercises that do not cause you any pain\, and avoiding any actions that may cause injury to yourself. Please check back here in case of rare cancellations due to poor weather or other reasons. \nVisual media recordings (photography and video) of participants may take place during the event. The visual material may be used for press releases and publicity material at globallocals.de and englishpost.de may appear on Facebook\, Instagram and Twitter. Please let the organisers know if you do not wish to appear on social media.
URL:https://test-only.globallocals.de/event/global-locals-yoga-in-the-park-4/
CATEGORIES:Global Locals Activities
ORGANIZER;CN="Global Locals":MAILTO:events@globallocals.de
END:VEVENT
BEGIN:VEVENT
DTSTART;TZID=Europe/Berlin:20230725T180000
DTEND;TZID=Europe/Berlin:20230725T203000
DTSTAMP:20260423T195201
CREATED:20230721T120630Z
LAST-MODIFIED:20230725T131702Z
UID:10000017-1690308000-1690317000@test-only.globallocals.de
SUMMARY:Movie Night: Barbie
DESCRIPTION:🌟 Ready for an Extravaganza at the Flicks? It’s Barbie Time! 🎉 \nJoin us in a world of pink as we embark on an enchanting cinematic adventure to see the one and only Barbie! \nImmerse yourself in a captivating fantasy comedy film\, drawing inspiration from the beloved Barbie fashion dolls by Mattel. Watch as Barbie and Ken go on a journey of self-discovery after their expulsion from Barbieland. With a star-studded cast featuring Margot Robbie as Barbie and Ryan Gosling as Ken\, alongside America Ferrera\, Kate McKinnon\, Michael Cera\, Ariana Greenblatt\, Issa Rae\, Rhea Perlman\, Helen Mirren\, and Will Ferrell\, get ready for a heartwarming movie that will have you laughing and cheering throughout. \nDon’t forget to dress in your best pink outfit for this cinema extravaganza! After the film\, we’ll have a special ‘pink-ussion’ meet-up to keep the fun going. Hurry\, as we only have 20 places available!
URL:https://test-only.globallocals.de/event/barbie/
LOCATION:Cinecitta\, Gewerbemuseumsplatz 3\, Nuremberg\, Bavaria\, 90403\, Germany
CATEGORIES:Global Locals at the Flicks
ATTACH;FMTTYPE=image/webp:https://test-only.globallocals.de/wp-content/uploads/2023/07/RNyMjqooYnx3EqUn4AcFwh-1920-80.jpg-2.webp
ORGANIZER;CN="Global Locals":MAILTO:events@globallocals.de
END:VEVENT
BEGIN:VEVENT
DTSTART;TZID=Europe/Berlin:20230723T171500
DTEND;TZID=Europe/Berlin:20230723T203000
DTSTAMP:20260423T195201
CREATED:20230721T142331Z
LAST-MODIFIED:20230723T144631Z
UID:10000016-1690132500-1690144200@test-only.globallocals.de
SUMMARY:Movie Night: Oppenheimer
DESCRIPTION:3 PLACES STILL AVAILABLE. Call 0176 3803 3809 until 6pm to reserve. \nWe’re off to the flicks! 🎬 \nYes\, we’re off to watch the Oppenheimer film portraying the “father of the atomic bomb” and his role in organising the Manhattan Project\, the research and development undertaking that created the first nuclear weapons. \nSo\, join us for this film with a star-studded cast including Matt Damon\, Emily Blunt\, Robert Downey Jr.\, Florence Pugh\, Rami Malek\, and Kenneth Branagh. \nAfter the film\, we’ll have some group therapy assisted by a drink at the bar 🍻 \nTo reserve your place\, please select a ticket. Reduced price tickets for members of Global Locals e.V.
URL:https://test-only.globallocals.de/event/oppenheimer/
LOCATION:Cinecitta\, Gewerbemuseumsplatz 3\, Nuremberg\, Bavaria\, 90403\, Germany
CATEGORIES:Global Locals at the Flicks
ORGANIZER;CN="Global Locals":MAILTO:events@globallocals.de
END:VEVENT
BEGIN:VEVENT
DTSTART;TZID=Europe/Berlin:20230709T084500
DTEND;TZID=Europe/Berlin:20230709T113000
DTSTAMP:20260423T195201
CREATED:20230704T113055Z
LAST-MODIFIED:20230704T124559Z
UID:10000003-1688892300-1688902200@test-only.globallocals.de
SUMMARY:Global Locals Yoga in the Park
DESCRIPTION:Immerse yourself in the serene green surroundings of Rosenau Park as we come together for a revitalising yoga experience. \nLed by our skilled instructor\, Elizaveta\, this session will encompass a blend of Hatha\, Ashtanga\, and Kriya yoga\, ensuring a harmonious balance of mind\, body\, and spirit.\nWe will gather at Cafe Kiosk at 9:45am\, and the class will begin at 10am. To fully enjoy the session\, kindly bring along a water bottle\, your trusty yoga mat (or a towel/blanket)\, and attire that allows unrestricted movement.\nPlease check www.englishpost.de/events/ in case of occasional cancellations due to poor weather or other reasons.\nIn the spirit of inclusivity\, we aim to make this class accessible to all\, so while it’s not free\, we ask you to pay what you can—donations will be collected at the end of the session.\nAfterwards\, we invite you to join us for a delightful post-yoga coffee/beer and lunch/cake at Cafe Kiosk.\nPlease feel free to reach out if you have any questions or require further information.\nNamaste \nPlease note that you are responsible for listening to your body\, only participating in exercises that do not cause you any pain\, and avoiding any actions that may cause injury to yourself.
URL:https://test-only.globallocals.de/event/global-locals-yoga-in-the-park/
LOCATION:Rosenau Park\, Bleichstrasse 5\, Nuremberg\, Bavaria\, Germany
CATEGORIES:Global Locals Activities
ATTACH;FMTTYPE=image/jpeg:https://test-only.globallocals.de/wp-content/uploads/2023/07/Global-Locals-Yoga-in-the-Park.jpg
ORGANIZER;CN="Global Locals":MAILTO:events@globallocals.de
END:VEVENT
END:VCALENDAR